BEGIN:VCALENDAR
VERSION:2.0
PRODID:-//Fonteinwerk - ECPv6.6.4.2//NONSGML v1.0//EN
CALSCALE:GREGORIAN
METHOD:PUBLISH
X-ORIGINAL-URL:https://fonteinwerk.nl
X-WR-CALDESC:Evenementen voor Fonteinwerk
REFRESH-INTERVAL;VALUE=DURATION:PT1H
X-Robots-Tag:noindex
X-PUBLISHED-TTL:PT1H
BEGIN:VTIMEZONE
TZID:Europe/Amsterdam
BEGIN:DAYLIGHT
TZOFFSETFROM:+0100
TZOFFSETTO:+0200
TZNAME:CEST
DTSTART:20220327T010000
END:DAYLIGHT
BEGIN:STANDARD
TZOFFSETFROM:+0200
TZOFFSETTO:+0100
TZNAME:CET
DTSTART:20221030T010000
END:STANDARD
END:VTIMEZONE
BEGIN:VEVENT
DTSTART;TZID=Europe/Amsterdam:20221125T093000
DTEND;TZID=Europe/Amsterdam:20221125T120000
DTSTAMP:20260421T135430
CREATED:20221028T075334Z
LAST-MODIFIED:20221028T075410Z
UID:10187-1669368600-1669377600@fonteinwerk.nl
SUMMARY:Gemeentebijeenkomst - Hoe vieren we ons geloof?
DESCRIPTION:De Algemene Kerkenraad nodigt je hierbij van harte uit voor een gemeentevergadering op donderdagavond 17 november 2022 en op vrijdagochtend 25 november 2022. Het thema van de vergadering is “Hoe delen we ons geloof”.\nIn de vergadering zullen een paar activiteiten binnen onze PGH worden toegelicht. Sprekers zullen vertellen wat er binnen de activiteit gebeurt\, is gebeurd en wat er zo fijn aan is. Je kunt hierbij denken aan de Tuin van Lof bij de Regenboog\, de @Home groepen of de ZWO-commissie. Daarnaast worden we geïnfomeeerd over de meerjarenbegroting en de begrotingen van de PGH en de diaconie.\nEr is volop tijd om met elkaar in gesprek te gaan over wat ons bezig houdt en hoe we ons geloof kunnen delen. \nJIJ KOMT TOCH OOK?! \nOp 17 november a.s. begint de vergadering om 19.30 uur (inloop vanaf 19.00 uur) en op 25 november a.s. begint de vergadering om 10.00 uur (inloop vanaf 09.30 uur). Beide vergaderingen zijn in de Plantagekerk.
URL:https://fonteinwerk.nl/agenda/gemeentebijeenkomst-hoe-vieren-we-ons-geloof/
LOCATION:Plantagekerk Harderwijk\, Stationslaan 136\, Harderwijk\, Gelderland\, 3841 DC\, Nederland
END:VEVENT
END:VCALENDAR