BEGIN:VCALENDAR
VERSION:2.0
PRODID:-//Fonteinwerk - ECPv6.6.4.2//NONSGML v1.0//EN
CALSCALE:GREGORIAN
METHOD:PUBLISH
X-WR-CALNAME:Fonteinwerk
X-ORIGINAL-URL:https://fonteinwerk.nl
X-WR-CALDESC:Evenementen voor Fonteinwerk
REFRESH-INTERVAL;VALUE=DURATION:PT1H
X-Robots-Tag:noindex
X-PUBLISHED-TTL:PT1H
BEGIN:VTIMEZONE
TZID:Europe/Amsterdam
BEGIN:DAYLIGHT
TZOFFSETFROM:+0100
TZOFFSETTO:+0200
TZNAME:CEST
DTSTART:20220327T010000
END:DAYLIGHT
BEGIN:STANDARD
TZOFFSETFROM:+0200
TZOFFSETTO:+0100
TZNAME:CET
DTSTART:20221030T010000
END:STANDARD
END:VTIMEZONE
BEGIN:VEVENT
DTSTART;TZID=Europe/Amsterdam:20221120T120000
DTEND;TZID=Europe/Amsterdam:20221120T130000
DTSTAMP:20260421T135051
CREATED:20221028T090458Z
LAST-MODIFIED:20221102T174505Z
UID:10192-1668945600-1668949200@fonteinwerk.nl
SUMMARY:Fonteindienst - Zijn licht\, jouw teken!
DESCRIPTION:In deze derde Fonteindienst van november putten we hoop uit de Openbaringen van Johannes.\nWe lezen Openbaringen 22 en zien hierin een prachtig beeld van wat komen gaat\, tenminste als we de stappen willen zetten en kiezen voor leven in Zijn licht. In deze dienst dagen we je uit hier over na te denken. Robin Simon\, beter bekend onder zijn artiestennaam DJ Roberto Rosso zal ons op zijn bekende energieke manier verder inspireren.\nMatthias Blokzijl en band maken de dienst compleet met een mooie bandsetting \nGraag zien we je op 20 november en laat je verrassen.\nJe bent van harte welkom! \nP.S. De aanvangstijd van deze dienst is eenmalig om 12:00 uur\, dit in verband met een langere eerste dienst in de Plantagekerk. Na afloop is er koffie\, thee en limonade. \nDeze dienst is ook online te volgen en is te bekijken via CAI TV kanaal 707 of via de website www.pgharderwijk.nl/live-stream (klik op de foto van de Plantagekerk).
URL:https://fonteinwerk.nl/agenda/fonteindienst-zijn-licht-jouw-teken/
LOCATION:Plantagekerk Harderwijk\, Stationslaan 136\, Harderwijk\, Gelderland\, 3841 DC\, Nederland
END:VEVENT
END:VCALENDAR