BEGIN:VCALENDAR
VERSION:2.0
PRODID:-//Fonteinwerk - ECPv6.6.4.2//NONSGML v1.0//EN
CALSCALE:GREGORIAN
METHOD:PUBLISH
X-WR-CALNAME:Fonteinwerk
X-ORIGINAL-URL:https://fonteinwerk.nl
X-WR-CALDESC:Evenementen voor Fonteinwerk
REFRESH-INTERVAL;VALUE=DURATION:PT1H
X-Robots-Tag:noindex
X-PUBLISHED-TTL:PT1H
BEGIN:VTIMEZONE
TZID:Europe/Amsterdam
BEGIN:DAYLIGHT
TZOFFSETFROM:+0100
TZOFFSETTO:+0200
TZNAME:CEST
DTSTART:20220327T010000
END:DAYLIGHT
BEGIN:STANDARD
TZOFFSETFROM:+0200
TZOFFSETTO:+0100
TZNAME:CET
DTSTART:20221030T010000
END:STANDARD
END:VTIMEZONE
BEGIN:VEVENT
DTSTART;TZID=Europe/Amsterdam:20221113T113000
DTEND;TZID=Europe/Amsterdam:20221113T123000
DTSTAMP:20260421T135030
CREATED:20221018T103621Z
LAST-MODIFIED:20221028T075835Z
UID:10159-1668339000-1668342600@fonteinwerk.nl
SUMMARY:Fonteindienst - Groeien in afhankelijkheid: de praktijkstage
DESCRIPTION:De discipelen leren in de praktijk wat het betekent om afhankelijk te zijn van Jezus. En zoals past bij Jezus is het een genadige les.\n\nSpreker Bart Visser zal hier verder met ons op ingaan en de muziek wordt verzorgd door I4U music. \nVoor de kinderen is er kinderdienst en oppas. En na afloop is er koffie\, thee en limonade. Je bent van harte welkom! \nDeze dienst is ook online te volgen en is te bekijken via CAI TV kanaal 707 of via de website www.pgharderwijk.nl/live-stream (klik op de foto van de Plantagekerk).
URL:https://fonteinwerk.nl/agenda/fonteindienst-groeien-in-afhankelijkheid-de-praktijkstage/
LOCATION:Plantagekerk Harderwijk\, Stationslaan 136\, Harderwijk\, Gelderland\, 3841 DC\, Nederland
END:VEVENT
END:VCALENDAR