BEGIN:VCALENDAR
VERSION:2.0
PRODID:-//Fonteinwerk - ECPv6.6.4.2//NONSGML v1.0//EN
CALSCALE:GREGORIAN
METHOD:PUBLISH
X-WR-CALNAME:Fonteinwerk
X-ORIGINAL-URL:https://fonteinwerk.nl
X-WR-CALDESC:Evenementen voor Fonteinwerk
REFRESH-INTERVAL;VALUE=DURATION:PT1H
X-Robots-Tag:noindex
X-PUBLISHED-TTL:PT1H
BEGIN:VTIMEZONE
TZID:Europe/Amsterdam
BEGIN:DAYLIGHT
TZOFFSETFROM:+0100
TZOFFSETTO:+0200
TZNAME:CEST
DTSTART:20220327T010000
END:DAYLIGHT
BEGIN:STANDARD
TZOFFSETFROM:+0200
TZOFFSETTO:+0100
TZNAME:CET
DTSTART:20221030T010000
END:STANDARD
END:VTIMEZONE
BEGIN:VEVENT
DTSTART;TZID=Europe/Amsterdam:20221106T113000
DTEND;TZID=Europe/Amsterdam:20221106T123000
DTSTAMP:20260421T134939
CREATED:20221018T103934Z
LAST-MODIFIED:20221018T103934Z
UID:10161-1667734200-1667737800@fonteinwerk.nl
SUMMARY:Fonteindienst - Geworteld in Gods Liefde
DESCRIPTION:Hoe laat jij geloof groeien en bloeien? In Psalm 1 staat mooi dat degene die vertrouwt op God als een mooi gegroeide boom is. Dan moet die boom natuurlijk wel genoeg water hebben! Lukt jou het genoeg te geven? Kom je wekelijkse portie halen in deze Fonteindienst.\nMet muziek van Dennis en Jocelynn\, en met Ds. David Kroeze als voorganger. \nVoor de kinderen is er kinderdienst en oppas. En na afloop is er koffie\, thee en limonade. Je bent van harte welkom! \nDeze dienst is ook online te volgen en is te bekijken via CAI TV kanaal 707 of via de website www.pgharderwijk.nl/live-stream(klik op de foto van de Plantagekerk). \n 
URL:https://fonteinwerk.nl/agenda/fonteindienst-geworteld-in-gods-liefde/
LOCATION:Plantagekerk Harderwijk\, Stationslaan 136\, Harderwijk\, Gelderland\, 3841 DC\, Nederland
END:VEVENT
END:VCALENDAR