BEGIN:VCALENDAR
VERSION:2.0
PRODID:-//Fonteinwerk - ECPv6.6.4.2//NONSGML v1.0//EN
CALSCALE:GREGORIAN
METHOD:PUBLISH
X-ORIGINAL-URL:https://fonteinwerk.nl
X-WR-CALDESC:Evenementen voor Fonteinwerk
REFRESH-INTERVAL;VALUE=DURATION:PT1H
X-Robots-Tag:noindex
X-PUBLISHED-TTL:PT1H
BEGIN:VTIMEZONE
TZID:Europe/Amsterdam
BEGIN:DAYLIGHT
TZOFFSETFROM:+0100
TZOFFSETTO:+0200
TZNAME:CEST
DTSTART:20220327T010000
END:DAYLIGHT
BEGIN:STANDARD
TZOFFSETFROM:+0200
TZOFFSETTO:+0100
TZNAME:CET
DTSTART:20221030T010000
END:STANDARD
END:VTIMEZONE
BEGIN:VEVENT
DTSTART;TZID=Europe/Amsterdam:20221016T113000
DTEND;TZID=Europe/Amsterdam:20221016T123000
DTSTAMP:20260421T153006
CREATED:20221006T074214Z
LAST-MODIFIED:20221011T174124Z
UID:10139-1665919800-1665923400@fonteinwerk.nl
SUMMARY:Fonteindienst - Micha on tour
DESCRIPTION:De Micha-beweging binnen de kerk is grofweg op te delen in twee delen: zorg voor de schepping en zorg voor elkaar. In deze Michadienst willen we inzoomen op het ‘zorg voor elkaar’ gedeelte. Verder gaan we terugblikken op de Moldavië reis die we van de zomer hebben gemaakt vanuit het Fonteinwerk.\nDeze twee items zijn goed te verenigen want zou je niet kunnen zeggen dat wij met Micha naar Moldavië gingen? En ben je eigenlijk niet je hele leven met Micha on tour? Job Burger vertelt ons er meer over. \nWe nodigen je van harte uit om dit te komen meebeleven aanstaande zondag in de Fonteindienst. \nDe muziek wordt verzorgd door de Andreas Youth band. \nVoor de kinderen is er kinderdienst en oppas. En na afloop is er koffie\, thee en limonade. Je bent van harte welkom! \nDeze dienst is ook online te volgen en is te bekijken via CAI TV kanaal 707 of via de website www.pgharderwijk.nl/live-stream(klik op de foto van de Plantagekerk).
URL:https://fonteinwerk.nl/agenda/fonteindienst-74/
LOCATION:Plantagekerk Harderwijk\, Stationslaan 136\, Harderwijk\, Gelderland\, 3841 DC\, Nederland
END:VEVENT
END:VCALENDAR