BEGIN:VCALENDAR
VERSION:2.0
PRODID:-//Fonteinwerk - ECPv6.6.4.2//NONSGML v1.0//EN
CALSCALE:GREGORIAN
METHOD:PUBLISH
X-WR-CALNAME:Fonteinwerk
X-ORIGINAL-URL:https://fonteinwerk.nl
X-WR-CALDESC:Evenementen voor Fonteinwerk
REFRESH-INTERVAL;VALUE=DURATION:PT1H
X-Robots-Tag:noindex
X-PUBLISHED-TTL:PT1H
BEGIN:VTIMEZONE
TZID:Europe/Amsterdam
BEGIN:DAYLIGHT
TZOFFSETFROM:+0100
TZOFFSETTO:+0200
TZNAME:CEST
DTSTART:20220327T010000
END:DAYLIGHT
BEGIN:STANDARD
TZOFFSETFROM:+0200
TZOFFSETTO:+0100
TZNAME:CET
DTSTART:20221030T010000
END:STANDARD
END:VTIMEZONE
BEGIN:VEVENT
DTSTART;TZID=Europe/Amsterdam:20221009T113000
DTEND;TZID=Europe/Amsterdam:20221009T123000
DTSTAMP:20260421T154327
CREATED:20220919T150146Z
LAST-MODIFIED:20221006T073320Z
UID:10101-1665315000-1665318600@fonteinwerk.nl
SUMMARY:Fonteindienst - Jij maakt het verschil!?
DESCRIPTION:Het thema van deze dienst is ‘Jij maakt het verschil!?’ Gerrit de Haan zal deze dienst voorgaan en de muziek is van Ricardo & Benthe Balsma. \nKun jij\, kan ik iets doen tegen al het onrecht wat Gods schepping wordt aangedaan? Ben ik geroepen om mee te helpen om het weer in goede staat terug te brengen? Wellicht denk je wel dat jouw bijdrage er niet toe doet en niets kan uithalen. Misschien merk je zelfs wel dat het je allemaal niet eens meer zo raakt.\nDe profeet Micha schreef er al over en dat die woorden ook vandaag actueel zijn\, dat zul je van Gerrit horen. \nVoor de kinderen is er kinderdienst en oppas. En na afloop is er koffie\, thee en limonade. Je bent van harte welkom! \nDeze dienst is ook online te volgen en is te bekijken via CAI TV kanaal 707 of via de website www.pgharderwijk.nl/live-stream (klik op de foto van de Plantagekerk).
URL:https://fonteinwerk.nl/agenda/fonteindienst-jij-maakt-het-verschil/
LOCATION:Plantagekerk Harderwijk\, Stationslaan 136\, Harderwijk\, Gelderland\, 3841 DC\, Nederland
END:VEVENT
END:VCALENDAR