BEGIN:VCALENDAR
VERSION:2.0
PRODID:-//Fonteinwerk - ECPv6.6.4.2//NONSGML v1.0//EN
CALSCALE:GREGORIAN
METHOD:PUBLISH
X-ORIGINAL-URL:https://fonteinwerk.nl
X-WR-CALDESC:Evenementen voor Fonteinwerk
REFRESH-INTERVAL;VALUE=DURATION:PT1H
X-Robots-Tag:noindex
X-PUBLISHED-TTL:PT1H
BEGIN:VTIMEZONE
TZID:Europe/Amsterdam
BEGIN:DAYLIGHT
TZOFFSETFROM:+0100
TZOFFSETTO:+0200
TZNAME:CEST
DTSTART:20220327T010000
END:DAYLIGHT
BEGIN:STANDARD
TZOFFSETFROM:+0200
TZOFFSETTO:+0100
TZNAME:CET
DTSTART:20221030T010000
END:STANDARD
END:VTIMEZONE
BEGIN:VEVENT
DTSTART;TZID=Europe/Amsterdam:20220911T100000
DTEND;TZID=Europe/Amsterdam:20220911T133000
DTSTAMP:20260421T171205
CREATED:20220908T130136Z
LAST-MODIFIED:20220908T130136Z
UID:10064-1662890400-1662903000@fonteinwerk.nl
SUMMARY:Startzondag PGH
DESCRIPTION:Op zondag 11 september vieren we weer de start van het seizoen met een startzondag. Zondag 11 september om 10.30 start de dienst in het Plantagepark\, aansluitend zijn er diverse activiteiten en mogelijkheden om te eten en te drinken. Lees hieronder meer! \n \nDe dienst begint om 10.30 uur in het Plantagepark. Vanaf 10 uur ben je van harte welkom om alvast een plekje te zoeken op het terrein. Om half 11 gaan we beginnen met een mooie dienst. Samen met een aantal 10’ers hebben we een mooie dienst samengesteld. Tijdens de dienst kun je vragen stellen over de preek. Dus neem je telefoon mee om je vraag te kunnen stellen. \nStoelen\nWe vragen eenieder weer om zijn eigen stoelen mee te nemen. Is dit echt niet mogelijk\, dan hebben we een aantal stoelen klaar staan die geleend kunnen worden. \nKinderoppas\nVoor de kinderen t/m 3 jaar is er oppas in de tent in het Plantagepark. \nNa afloop van de dienst is er een optreden van de Jeugd Harmonie\, staat er koffie klaar en is het tijd om bij te kletsen en de informatie kraampjes te bekijken. Langzaamaan zal ook het eten worden opgewarmd en kunnen we heerlijk smullen van al het lekkers. \nVoor de jeugd wordt de stormbaan weer opgeblazen en zijn er diverse spelletjes klaar gezet. \nVoor de 10’ers hebben we sups geregeld\, vergeet dus niet om droge kleren mee te nemen en een handdoek! \nAls afsluiting is er weer een mooie slotact\, deze wil je niet missen! Neem je camera mee voor de mooiste foto’s. \nVrijwilligers gezocht!\nVoor het opbouwen\, het afbouwen en zondag overdag hebben we nog vrijwilligers nodig! Wil jij helpen om deze startzondag tot een succes te maken? Meld je dan <<hier>> aan!
URL:https://fonteinwerk.nl/agenda/startzondag-pgh/
LOCATION:Plantagepark\, Plantagepark\, Harderwijk\, 3841EL\, Nederland
END:VEVENT
END:VCALENDAR