BEGIN:VCALENDAR
VERSION:2.0
PRODID:-//Fonteinwerk - ECPv6.6.4.2//NONSGML v1.0//EN
CALSCALE:GREGORIAN
METHOD:PUBLISH
X-ORIGINAL-URL:https://fonteinwerk.nl
X-WR-CALDESC:Evenementen voor Fonteinwerk
REFRESH-INTERVAL;VALUE=DURATION:PT1H
X-Robots-Tag:noindex
X-PUBLISHED-TTL:PT1H
BEGIN:VTIMEZONE
TZID:Europe/Amsterdam
BEGIN:DAYLIGHT
TZOFFSETFROM:+0100
TZOFFSETTO:+0200
TZNAME:CEST
DTSTART:20220327T010000
END:DAYLIGHT
BEGIN:STANDARD
TZOFFSETFROM:+0200
TZOFFSETTO:+0100
TZNAME:CET
DTSTART:20221030T010000
END:STANDARD
END:VTIMEZONE
BEGIN:VEVENT
DTSTART;TZID=Europe/Amsterdam:20220717T113000
DTEND;TZID=Europe/Amsterdam:20220717T123000
DTSTAMP:20260421T204935
CREATED:20220712T082404Z
LAST-MODIFIED:20220712T082404Z
UID:9970-1658057400-1658061000@fonteinwerk.nl
SUMMARY:Fonteindienst - Blijvende liefde
DESCRIPTION:In deze laatste Fonteindienst voor de zomerstop nemen we afscheid van ds. Henk Jansen als onze Fonteinpredikant in de afgelopen 4 jaar. We kijken dankbaar terug op een vruchtbare\, inspirerende periode en geven hem Gods zegen mee. En we ronden het jaarthema “Vol van de Geest” af.\nEen jaar lang hebben we op allerlei manieren geleerd\, zijn we nog meer geïnspireerd en hebben we geoefend in de gaven van de Geest. Vrucht dragen door de kracht van de Heilige Geest maakt de grootheid van God zichtbaar. Dat kan alleen als we dicht bij Jezus blijven. Jezus gebruikt hierbij het beeld van de wijnstok waarbij wij de ranken zijn. “Blijf in mijn liefde” zegt Jezus\, als een levenslange opdracht voor ons. \nDe muziek is van Matthias Blokzijl & Band.\nJe bent van harte welkom! \nEr gelden geen beperkende maatregelen meer vanwege corona. Maar om onnodige risico’s te voorkomen geldt nog steeds de regel ‘heb je klachten\, blijf dan thuis’. \nVind je het prettiger om thuis de dienst online te volgen\, doe dat dan. En weet dat we met elkaar verbonden zijn ook al ben je niet fysiek aanwezig.\nDe Fonteindienst is ook te volgen via de live-stream en de CAI televisie.\n \nSchakel om 11.30 uur weer in via CAI TV kanaal 707 of via de website www.pgharderwijk.nl/live-stream (klik op de foto van de Plantagekerk). \nGraag tot ziens!
URL:https://fonteinwerk.nl/agenda/fonteindienst-blijvende-liefde/
LOCATION:Plantagekerk Harderwijk\, Stationslaan 136\, Harderwijk\, Gelderland\, 3841 DC\, Nederland
END:VEVENT
END:VCALENDAR