BEGIN:VCALENDAR
VERSION:2.0
PRODID:-//Fonteinwerk - ECPv6.6.4.2//NONSGML v1.0//EN
CALSCALE:GREGORIAN
METHOD:PUBLISH
X-ORIGINAL-URL:https://fonteinwerk.nl
X-WR-CALDESC:Evenementen voor Fonteinwerk
REFRESH-INTERVAL;VALUE=DURATION:PT1H
X-Robots-Tag:noindex
X-PUBLISHED-TTL:PT1H
BEGIN:VTIMEZONE
TZID:Europe/Amsterdam
BEGIN:DAYLIGHT
TZOFFSETFROM:+0100
TZOFFSETTO:+0200
TZNAME:CEST
DTSTART:20220327T010000
END:DAYLIGHT
BEGIN:STANDARD
TZOFFSETFROM:+0200
TZOFFSETTO:+0100
TZNAME:CET
DTSTART:20221030T010000
END:STANDARD
END:VTIMEZONE
BEGIN:VEVENT
DTSTART;TZID=Europe/Amsterdam:20220515T113000
DTEND;TZID=Europe/Amsterdam:20220515T123000
DTSTAMP:20260422T003228
CREATED:20220512T063854Z
LAST-MODIFIED:20220512T064114Z
UID:9791-1652614200-1652617800@fonteinwerk.nl
SUMMARY:Fonteindienst - Ik zie jou
DESCRIPTION:In deze viering gaan we een spannend maar mooi onderwerp aan; het omgaan met verschillen in geloof in onze samenleving. Denk daarbij aan verschillende geloven\, geloofsbeleving\, muzieksmaak\, vormen\, opvattingen\, levensstijl. Dat kan best lastig zijn\, voor je het weet neem je elkaar de maat. \nToch willen we ook graag het gesprek aangaan met elkaar over belangrijke zaken. Zeker als missionaire wijkgemeente zijnde. Hoe doen we dat op een liefhebbende\, vrije manier met volop oog voor de ander? Zijn we werkelijk nieuwsgierig naar ‘het andere van de ander’? Hierover en meer zal Abbie Chalgoum met ons komen spreken. \nEr gelden geen beperkende maatregelen meer vanwege corona. Maar om onnodige risico’s te voorkomen geldt nog steeds de regel ‘heb je klachten\, blijf dan thuis’.\n\nVind je het prettiger om thuis de dienst online te volgen\, doe dat dan. En weet dat we met elkaar verbonden zijn ook al ben je niet fysiek aanwezig.\nDe Fonteindienst is ook te volgen via de live-stream en de CAI televisie.\n \nSchakel om 11.30 uur weer in via CAI TV kanaal 707 of via de website www.pgharderwijk.nl/live-stream (klik op de foto van de Plantagekerk).\n\nGraag tot ziens!
URL:https://fonteinwerk.nl/agenda/fonteindienst-ik-zie-jou/
LOCATION:Plantagekerk Harderwijk\, Stationslaan 136\, Harderwijk\, Gelderland\, 3841 DC\, Nederland
END:VEVENT
END:VCALENDAR