BEGIN:VCALENDAR
VERSION:2.0
PRODID:-//Fonteinwerk - ECPv6.6.4.2//NONSGML v1.0//EN
CALSCALE:GREGORIAN
METHOD:PUBLISH
X-ORIGINAL-URL:https://fonteinwerk.nl
X-WR-CALDESC:Evenementen voor Fonteinwerk
REFRESH-INTERVAL;VALUE=DURATION:PT1H
X-Robots-Tag:noindex
X-PUBLISHED-TTL:PT1H
BEGIN:VTIMEZONE
TZID:Europe/Amsterdam
BEGIN:DAYLIGHT
TZOFFSETFROM:+0100
TZOFFSETTO:+0200
TZNAME:CEST
DTSTART:20220327T010000
END:DAYLIGHT
BEGIN:STANDARD
TZOFFSETFROM:+0200
TZOFFSETTO:+0100
TZNAME:CET
DTSTART:20221030T010000
END:STANDARD
END:VTIMEZONE
BEGIN:VEVENT
DTSTART;TZID=Europe/Amsterdam:20220306T113000
DTEND;TZID=Europe/Amsterdam:20220306T123000
DTSTAMP:20260422T035759
CREATED:20220215T150834Z
LAST-MODIFIED:20220215T150834Z
UID:9487-1646566200-1646569800@fonteinwerk.nl
SUMMARY:Fonteindienst - Klanktaal
DESCRIPTION:Ds. Henk Jansen gaat voor in deze Fonteindienst en het thema is Klanktaal\, een niet uitgepakt cadeau? \nIn ons leven gaan we meestal op zoek naar iets wat bij ons past en het mooie is dat geen mens gelijk is. God heeft ons Zijn Heilige Geest gegeven die in ons leeft. Ook geestelijk gezien is niemand gelijk en mogen we ontdekken welke gaven God voor ons heeft\, en wie weet is dat klanktaal. \nHenk zal ons meer vertellen over deze mooie en wellicht vreemde opbouwende gave.
URL:https://fonteinwerk.nl/agenda/fonteindienst-klanktaal/
LOCATION:Plantagekerk Harderwijk\, Stationslaan 136\, Harderwijk\, Gelderland\, 3841 DC\, Nederland
END:VEVENT
END:VCALENDAR