BEGIN:VCALENDAR
VERSION:2.0
PRODID:-//Fonteinwerk - ECPv6.6.4.2//NONSGML v1.0//EN
CALSCALE:GREGORIAN
METHOD:PUBLISH
X-ORIGINAL-URL:https://fonteinwerk.nl
X-WR-CALDESC:Evenementen voor Fonteinwerk
REFRESH-INTERVAL;VALUE=DURATION:PT1H
X-Robots-Tag:noindex
X-PUBLISHED-TTL:PT1H
BEGIN:VTIMEZONE
TZID:Europe/Amsterdam
BEGIN:DAYLIGHT
TZOFFSETFROM:+0100
TZOFFSETTO:+0200
TZNAME:CEST
DTSTART:20220327T010000
END:DAYLIGHT
BEGIN:STANDARD
TZOFFSETFROM:+0200
TZOFFSETTO:+0100
TZNAME:CET
DTSTART:20221030T010000
END:STANDARD
END:VTIMEZONE
BEGIN:VEVENT
DTSTART;TZID=Europe/Amsterdam:20220116T113000
DTEND;TZID=Europe/Amsterdam:20220116T123000
DTSTAMP:20260422T073840
CREATED:20220110T180556Z
LAST-MODIFIED:20220110T180556Z
UID:9382-1642332600-1642336200@fonteinwerk.nl
SUMMARY:Fonteindienst - Kijk mij eens!?
DESCRIPTION:Aan de vruchten kent men de boom. Welke vruchten zijn er aan jou te zien? Etaleer je je geloof: visje op de auto\, kruisje om je hals\, mezoeza aan de voordeur\, Bijbeltekst op je social media profiel?\nZet jij je in voor een stichting of een goed doel en maak je dit kenbaar? Of ben je daar terughoudend in? \nAan de ene kant wil je ruchtbaarheid voor wat jij heel belangrijk vindt\, aan de andere kant wil je niet overkomen als ‘kijk mij eens goed zijn’. Het dilemma van ‘jezelf etaleren’ en ‘laten zien wat echt belangrijk is’.\nDs. Eva Bruggeman zal ons meenemen in dit onderwerp. \nMisha de Haan en band zullen de muziek verzorgen. \nLet op: Vanwege de lockdown kunnen de Fonteindiensten voor onbepaalde tijd niet meer live bezocht worden. Voorlopig zitten we dus weer vast aan online vieringen. \nDe Fonteindienst is te volgen via livestream en via de CAI televisie\, maar dus niet live te bezoeken in de Plantagekerk. \n\nSchakel om 11.30 uur weer in via CAI TV kanaal 707 of via de website www.pgharderwijk.nl/live-stream (klik op de foto van de Plantagekerk).
URL:https://fonteinwerk.nl/agenda/fonteindienst-kijk-mij-eens/
LOCATION:Plantagekerk Harderwijk\, Stationslaan 136\, Harderwijk\, Gelderland\, 3841 DC\, Nederland
END:VEVENT
END:VCALENDAR