BEGIN:VCALENDAR
VERSION:2.0
PRODID:-//Fonteinwerk - ECPv6.6.4.2//NONSGML v1.0//EN
CALSCALE:GREGORIAN
METHOD:PUBLISH
X-WR-CALNAME:Fonteinwerk
X-ORIGINAL-URL:https://fonteinwerk.nl
X-WR-CALDESC:Evenementen voor Fonteinwerk
REFRESH-INTERVAL;VALUE=DURATION:PT1H
X-Robots-Tag:noindex
X-PUBLISHED-TTL:PT1H
BEGIN:VTIMEZONE
TZID:Europe/Amsterdam
BEGIN:DAYLIGHT
TZOFFSETFROM:+0100
TZOFFSETTO:+0200
TZNAME:CEST
DTSTART:20210328T010000
END:DAYLIGHT
BEGIN:STANDARD
TZOFFSETFROM:+0200
TZOFFSETTO:+0100
TZNAME:CET
DTSTART:20211031T010000
END:STANDARD
END:VTIMEZONE
BEGIN:VEVENT
DTSTART;TZID=Europe/Amsterdam:20211225T113000
DTEND;TZID=Europe/Amsterdam:20211225T130000
DTSTAMP:20260422T093530
CREATED:20211214T110904Z
LAST-MODIFIED:20211219T132431Z
UID:9290-1640431800-1640437200@fonteinwerk.nl
SUMMARY:Fonteindienst - Thank God It's Christmas
DESCRIPTION:Op eerste kerstdag is er een Fonteindienst en daar zijn we heel blij mee want Kerst is toch wel echt een feest om te vieren. Wat is dat toch met Kerstmis? Dat moet je blijkbaar groots een meeslepend vieren\, toch? De kerstliedjes vliegen je deze tijd om de oren op de radio en in de winkel. Er zijn heel veel kerstliedjes over sneeuw en vrede een liefde en ….. iedereen is dus blij dat het Kerst is. \nQueen zingt “Thank God it’s Christmas”\, en dat zijn we ook.  We zijn God dankbaar dat het Kerst is!\nWe gaan dit vieren in een fantastische dienst met Henk Jansen als spreker en live muziek van de geweldige band van Matthias Blokzijl. \nLet op: Vanwege de lockdown kunnen de Fonteindiensten voor onbepaalde tijd niet meer live bezocht worden. Voorlopig zitten we dus weer vast aan online vieringen. \nHaak online aan en ontdek waarom we kunnen zeggen: Thank God it’s Christmas. \nDe Fonteindienst van 25 december is te volgen via livestream en via de CAI televisie\, maar dus niet live te bezoeken in de Plantagekerk. \n\nSchakel om 11.30 uur weer in via CAI TV kanaal 707 of via de website www.pgharderwijk.nl/live-stream (klik op de foto van de Plantagekerk). \nWij wensen iedereen ondanks de nieuwe beperkingen fijne kerstdagen en een mooie dienst.
URL:https://fonteinwerk.nl/agenda/fonteindienst-thank-god-its-christmas/
LOCATION:Plantagekerk Harderwijk\, Stationslaan 136\, Harderwijk\, Gelderland\, 3841 DC\, Nederland
END:VEVENT
END:VCALENDAR