BEGIN:VCALENDAR
VERSION:2.0
PRODID:-//Fonteinwerk - ECPv6.6.4.2//NONSGML v1.0//EN
CALSCALE:GREGORIAN
METHOD:PUBLISH
X-WR-CALNAME:Fonteinwerk
X-ORIGINAL-URL:https://fonteinwerk.nl
X-WR-CALDESC:Evenementen voor Fonteinwerk
REFRESH-INTERVAL;VALUE=DURATION:PT1H
X-Robots-Tag:noindex
X-PUBLISHED-TTL:PT1H
BEGIN:VTIMEZONE
TZID:Europe/Amsterdam
BEGIN:DAYLIGHT
TZOFFSETFROM:+0100
TZOFFSETTO:+0200
TZNAME:CEST
DTSTART:20210328T010000
END:DAYLIGHT
BEGIN:STANDARD
TZOFFSETFROM:+0200
TZOFFSETTO:+0100
TZNAME:CET
DTSTART:20211031T010000
END:STANDARD
END:VTIMEZONE
BEGIN:VEVENT
DTSTART;TZID=Europe/Amsterdam:20211107T113000
DTEND;TZID=Europe/Amsterdam:20211107T130000
DTSTAMP:20260422T111612
CREATED:20211021T084010Z
LAST-MODIFIED:20211021T084010Z
UID:9149-1636284600-1636290000@fonteinwerk.nl
SUMMARY:Fonteindienst - Jubeltenen en zangknobbels
DESCRIPTION:Deze Fonteindienst gaat Rob Favier voor en wordt de muziek verzorgd door I4U. Deze muzikale combinatie verklapt al dat deze dienst  gaat over muziek. Het thema is Jubeltenen en zangknobbels. \nRob Favier is van jongs af aan opgegroeid met muziek. Hij trok op zijn achttiende al door Europa met een fulltime band. Hierna begon hij aan de studie theologie die hij met succes afrondde.\nZoals velen misschien weten\, heeft hij een geheel eigen manier van voorgaan/optreden: een mengeling van prediking en liedjes die zeer herkenbaar zijn en waarbij het humoristische aspect niet zelden een rol speelt. Aan de hand van een mooie Psalm zal Rob ons meer vertellen over wat muziek met ons kan doen. \nJe bent van harte welkom om de dienst live te bezoeken (inloop vanaf 11.15 uur in de Plantagekerk). Aanmelden is niet meer nodig! Zingen is weer mogelijk en de mondkapjesplicht is vervallen. We houden ons nog wel aan de anderhalve meter afstand. \n\nEr is kinderdienst en oppas. En na afloop is er in de kerk weer koffie en thee en limonade. \nDe Fonteindienst is ook te volgen via de live-stream en de CAI televisie.\nSchakel om 11.30 uur weer in via CAI TV kanaal 707 of via de website www.pgharderwijk.nl/live-stream (klik op de foto van de Plantagekerk).\n\nGraag tot ziens!
URL:https://fonteinwerk.nl/agenda/fonteindienst-jubeltenen-en-zangknobbels/
LOCATION:Plantagekerk Harderwijk\, Stationslaan 136\, Harderwijk\, Gelderland\, 3841 DC\, Nederland
END:VEVENT
END:VCALENDAR