BEGIN:VCALENDAR
VERSION:2.0
PRODID:-//Fonteinwerk - ECPv6.6.4.2//NONSGML v1.0//EN
CALSCALE:GREGORIAN
METHOD:PUBLISH
X-WR-CALNAME:Fonteinwerk
X-ORIGINAL-URL:https://fonteinwerk.nl
X-WR-CALDESC:Evenementen voor Fonteinwerk
REFRESH-INTERVAL;VALUE=DURATION:PT1H
X-Robots-Tag:noindex
X-PUBLISHED-TTL:PT1H
BEGIN:VTIMEZONE
TZID:Europe/Amsterdam
BEGIN:DAYLIGHT
TZOFFSETFROM:+0100
TZOFFSETTO:+0200
TZNAME:CEST
DTSTART:20210328T010000
END:DAYLIGHT
BEGIN:STANDARD
TZOFFSETFROM:+0200
TZOFFSETTO:+0100
TZNAME:CET
DTSTART:20211031T010000
END:STANDARD
END:VTIMEZONE
BEGIN:VEVENT
DTSTART;TZID=Europe/Amsterdam:20211010T113000
DTEND;TZID=Europe/Amsterdam:20211010T130000
DTSTAMP:20260422T131957
CREATED:20210924T121241Z
LAST-MODIFIED:20211007T101714Z
UID:9077-1633865400-1633870800@fonteinwerk.nl
SUMMARY:Fonteindienst - Zelfzorg
DESCRIPTION:Zorg jij goed voor jezelf? Je kan alleen goed voor een ander zorgen\, wanneer je ook goed voor jezelf zorgt.\nHet is niet egoïstisch om je eigen kopje te vullen zodat je dat van anderen kan vullen. \nZo zijn er meer quotes die je kan gebruiken. \nIn deze Fonteindienst gaat het over zelfzorg. Gerrit de Haan gaat het hier met ons uitgebreid over hebben. \nDe muziek wordt verzorgd door Jaïr en Micha. \nJe bent van harte welkom om de dienst live te bezoeken (inloop vanaf 11.15 uur in de Plantagekerk). Aanmelden is niet meer nodig! Zingen is weer mogelijk en de mondkapjesplicht is vervallen. We houden ons nog wel aan de anderhalve meter afstand. \nEn na afloop is er in de kerk weer koffie en thee en limonade. \nDe Fonteindienst is ook te volgen via de live-stream en de CAI televisie.\nSchakel om 11.30 uur weer in via CAI TV kanaal 707 of via de website www.pgharderwijk.nl/live-stream (klik op de foto van de Plantagekerk).\n\nGraag tot ziens!
URL:https://fonteinwerk.nl/agenda/fonteindienst-zelfzorg/
LOCATION:Plantagekerk Harderwijk\, Stationslaan 136\, Harderwijk\, Gelderland\, 3841 DC\, Nederland
END:VEVENT
END:VCALENDAR