BEGIN:VCALENDAR
VERSION:2.0
PRODID:-//Fonteinwerk - ECPv6.6.4.2//NONSGML v1.0//EN
CALSCALE:GREGORIAN
METHOD:PUBLISH
X-WR-CALNAME:Fonteinwerk
X-ORIGINAL-URL:https://fonteinwerk.nl
X-WR-CALDESC:Evenementen voor Fonteinwerk
REFRESH-INTERVAL;VALUE=DURATION:PT1H
X-Robots-Tag:noindex
X-PUBLISHED-TTL:PT1H
BEGIN:VTIMEZONE
TZID:Europe/Amsterdam
BEGIN:DAYLIGHT
TZOFFSETFROM:+0100
TZOFFSETTO:+0200
TZNAME:CEST
DTSTART:20210328T010000
END:DAYLIGHT
BEGIN:STANDARD
TZOFFSETFROM:+0200
TZOFFSETTO:+0100
TZNAME:CET
DTSTART:20211031T010000
END:STANDARD
END:VTIMEZONE
BEGIN:VEVENT
DTSTART;TZID=Europe/Amsterdam:20210808T113000
DTEND;TZID=Europe/Amsterdam:20210808T123000
DTSTAMP:20260422T163222
CREATED:20210805T082203Z
LAST-MODIFIED:20210805T082203Z
UID:8955-1628422200-1628425800@fonteinwerk.nl
SUMMARY:1e Tuinfontein - "Blij Ei"
DESCRIPTION:Ben je in augustus thuis? Zin in een goed gesprek in een ontspannen setting? Lijkt het je leuk om andere Fonteiners en/of het Fonteinwerk beter te leren kennen? \nZondag 8 augustus wordt de 1e Tuinfontein gehouden bij Goos en Jolanda in de tuin (Adres: Stobbeweg 17\, 3849 RB\, Hierden).\nHenk Jansen brengt ons vanaf 11.30 uur met elkaar in gesprek n.a.v. de vraag ‘Waar word je echt blij van?’ In aansluiting bij de oproep uit Fil. 4:4 ‘Wees altijd blij’ gaan we samen op zoek hoe dat kan.\n\nWil je daar ook bij zijn en/of heb je interesse in de eventuele navolgende Tuinfonteinen\, stuur me dan een berichtje dan houden we je op de hoogte.\n\n\n\nNamens Team Verbinding\,\nErnst Vonkeman (06-13140580)
URL:https://fonteinwerk.nl/agenda/1e-tuinfontein-blij-ei/
LOCATION:Gelderland
END:VEVENT
END:VCALENDAR