BEGIN:VCALENDAR
VERSION:2.0
PRODID:-//Fonteinwerk - ECPv6.6.4.2//NONSGML v1.0//EN
CALSCALE:GREGORIAN
METHOD:PUBLISH
X-WR-CALNAME:Fonteinwerk
X-ORIGINAL-URL:https://fonteinwerk.nl
X-WR-CALDESC:Evenementen voor Fonteinwerk
REFRESH-INTERVAL;VALUE=DURATION:PT1H
X-Robots-Tag:noindex
X-PUBLISHED-TTL:PT1H
BEGIN:VTIMEZONE
TZID:Europe/Amsterdam
BEGIN:DAYLIGHT
TZOFFSETFROM:+0100
TZOFFSETTO:+0200
TZNAME:CEST
DTSTART:20210328T010000
END:DAYLIGHT
BEGIN:STANDARD
TZOFFSETFROM:+0200
TZOFFSETTO:+0100
TZNAME:CET
DTSTART:20211031T010000
END:STANDARD
END:VTIMEZONE
BEGIN:VEVENT
DTSTART;TZID=Europe/Amsterdam:20210718T113000
DTEND;TZID=Europe/Amsterdam:20210718T123000
DTSTAMP:20260422T182953
CREATED:20210610T121731Z
LAST-MODIFIED:20210712T131336Z
UID:8806-1626607800-1626611400@fonteinwerk.nl
SUMMARY:Fonteindienst - God en vrije tijd
DESCRIPTION:De laatste dienst voor de zomerstop! Velen van ons staan al helemaal in de vakantiemodus want wat hebben we een zwaar jaar achter ons liggen. Maar hoe doe je dat eigenlijk met God?\nNeem je hem mee op vakantie of ga je Hem daar ontmoeten? En ga jij je benodigde rust opzoeken of beland je toch weer op een (te) druk strand?\nAan de hand van Marcus 6:30-34 en zijn eigen ervaring\, gaat Leo Verboeket ons hierover voor.\nJe bent welkom\, online of fysiek (wel aanmelden) om 11.30 uur in de Plantagekerk te Harderwijk. \nIn verband met de versoepelingen van de corona maatregelen is er weer beperkt plaats in de kerk om de dienst live te bezoeken. Wil je de dienst live bezoeken\, dan moet je je vooraf even aanmelden. Vul het online aanmeldformulier in voor elke persoon (ook binnen je gezin) die mee gaat naar de kerk. Dit scheelt veel handmatige administratie voor het team. Klik op de volgende link om je aan te melden: https://forms.gle/yPizmM1Nk3ytHdKLA \nDe Fonteindienst is ook te volgen via de live-stream en de CAI televisie.\nSchakel om 11.30 uur weer in via CAI TV kanaal 707 of via de website www.pgharderwijk.nl/live-stream (klik op de foto van de Plantagekerk).\n\nJe bent van harte welkom!\n 
URL:https://fonteinwerk.nl/agenda/fonteindienst-71/
LOCATION:Plantagekerk Harderwijk\, Stationslaan 136\, Harderwijk\, Gelderland\, 3841 DC\, Nederland
END:VEVENT
END:VCALENDAR