BEGIN:VCALENDAR
VERSION:2.0
PRODID:-//Fonteinwerk - ECPv6.6.4.2//NONSGML v1.0//EN
CALSCALE:GREGORIAN
METHOD:PUBLISH
X-WR-CALNAME:Fonteinwerk
X-ORIGINAL-URL:https://fonteinwerk.nl
X-WR-CALDESC:Evenementen voor Fonteinwerk
REFRESH-INTERVAL;VALUE=DURATION:PT1H
X-Robots-Tag:noindex
X-PUBLISHED-TTL:PT1H
BEGIN:VTIMEZONE
TZID:Europe/Amsterdam
BEGIN:DAYLIGHT
TZOFFSETFROM:+0100
TZOFFSETTO:+0200
TZNAME:CEST
DTSTART:20210328T010000
END:DAYLIGHT
BEGIN:STANDARD
TZOFFSETFROM:+0200
TZOFFSETTO:+0100
TZNAME:CET
DTSTART:20211031T010000
END:STANDARD
END:VTIMEZONE
BEGIN:VEVENT
DTSTART;TZID=Europe/Amsterdam:20210704T113000
DTEND;TZID=Europe/Amsterdam:20210704T123000
DTSTAMP:20260422T182939
CREATED:20210610T121429Z
LAST-MODIFIED:20210630T103323Z
UID:8801-1625398200-1625401800@fonteinwerk.nl
SUMMARY:Fonteindienst - Leef je talent!
DESCRIPTION:In deze dienst gaan we het hebben over het gebruik van je talent. God legt iets van Zijn genade\, Zijn heerlijkheid op ons neer en daar mogen wij op onze eigen unieke manier mee aan de slag. Maar doen we dat ook? \nGerhard Heeringa gaat hier dieper op in tijdens de overdenking en I4U zorgt voor de muzikale begeleiding. \nWil je de dienst live bezoeken\, dan moet je je vooraf even aanmelden. Er is ‘plaats’ voor 100 bezoekers\, dan is de 1\,5 meter afstand goed te waarborgen. De mondkapjesplicht is vervallen en zingen is weer mogelijk.\nVul het online aanmeldformulier in voor elke persoon (ook binnen je gezin) die mee gaat naar de kerk. Dit scheelt veel handmatige administratie voor het team. Klik op de volgende link om je aan te melden: https://forms.gle/XxD9XuwA971DwXvy9\nOm 11.15 uur start de inloop in de Plantagekerk. \nNa afloop kunnen we koffie\, thee en limonade drinken in de tuin van de pastorie. \nDe Fonteindienst is ook te volgen via de live-stream en de CAI televisie.\nSchakel om 11.30 uur weer in via CAI TV kanaal 707 of via de website www.pgharderwijk.nl/live-stream (klik op de foto van de Plantagekerk).\n\nJe bent van harte welkom!\n 
URL:https://fonteinwerk.nl/agenda/fonteindienst-69/
LOCATION:Plantagekerk Harderwijk\, Stationslaan 136\, Harderwijk\, Gelderland\, 3841 DC\, Nederland
END:VEVENT
END:VCALENDAR