BEGIN:VCALENDAR
VERSION:2.0
PRODID:-//Fonteinwerk - ECPv6.6.4.2//NONSGML v1.0//EN
CALSCALE:GREGORIAN
METHOD:PUBLISH
X-ORIGINAL-URL:https://fonteinwerk.nl
X-WR-CALDESC:Evenementen voor Fonteinwerk
REFRESH-INTERVAL;VALUE=DURATION:PT1H
X-Robots-Tag:noindex
X-PUBLISHED-TTL:PT1H
BEGIN:VTIMEZONE
TZID:Europe/Amsterdam
BEGIN:DAYLIGHT
TZOFFSETFROM:+0100
TZOFFSETTO:+0200
TZNAME:CEST
DTSTART:20210328T010000
END:DAYLIGHT
BEGIN:STANDARD
TZOFFSETFROM:+0200
TZOFFSETTO:+0100
TZNAME:CET
DTSTART:20211031T010000
END:STANDARD
END:VTIMEZONE
BEGIN:VEVENT
DTSTART;TZID=Europe/Amsterdam:20210620T113000
DTEND;TZID=Europe/Amsterdam:20210620T123000
DTSTAMP:20260422T203750
CREATED:20210520T132054Z
LAST-MODIFIED:20210615T101116Z
UID:8755-1624188600-1624192200@fonteinwerk.nl
SUMMARY:Fonteindienst - Met heel je kracht
DESCRIPTION:We bidden denk ik allemaal wel eens om kracht. Voor jezelf of voor de ander. Maar komt al je kracht al niet van God\, of heb je zelf ook kracht? Wat doe jij met de kracht die je van God krijgt en hoe ervaar je Zijn kracht? Over deze vragen en meer gaat Almatine Leene ons voor in deze Fonteindienst. \nJe bent welkom\, online of fysiek (wel aanmelden) om 11.30 uur in de Plantagekerk te Harderwijk. \nIn verband met de versoepelingen van de corona maatregelen is er weer beperkt plaats in de kerk om de dienst live te bezoeken. Wil je de dienst live bezoeken\, dan moet je je vooraf even aanmelden. Vul het online aanmeldformulier in voor elke persoon (ook binnen je gezin) die mee gaat naar de kerk. Dit scheelt veel handmatige administratie voor het team. Klik op de volgende link om je aan te melden: https://forms.gle/zT8UnRoi57qmbCzy9 \nDe Fonteindienst is ook te volgen via de live-stream en de CAI televisie.\nSchakel om 11.30 uur weer in via CAI TV kanaal 707 of via de website www.pgharderwijk.nl/live-stream (klik op de foto van de Plantagekerk).\n\nJe bent van harte welkom!
URL:https://fonteinwerk.nl/agenda/fonteindienst-68/
LOCATION:Gelderland
END:VEVENT
END:VCALENDAR