BEGIN:VCALENDAR
VERSION:2.0
PRODID:-//Fonteinwerk - ECPv6.6.4.2//NONSGML v1.0//EN
CALSCALE:GREGORIAN
METHOD:PUBLISH
X-WR-CALNAME:Fonteinwerk
X-ORIGINAL-URL:https://fonteinwerk.nl
X-WR-CALDESC:Evenementen voor Fonteinwerk
REFRESH-INTERVAL;VALUE=DURATION:PT1H
X-Robots-Tag:noindex
X-PUBLISHED-TTL:PT1H
BEGIN:VTIMEZONE
TZID:Europe/Amsterdam
BEGIN:DAYLIGHT
TZOFFSETFROM:+0100
TZOFFSETTO:+0200
TZNAME:CEST
DTSTART:20210328T010000
END:DAYLIGHT
BEGIN:STANDARD
TZOFFSETFROM:+0200
TZOFFSETTO:+0100
TZNAME:CET
DTSTART:20211031T010000
END:STANDARD
END:VTIMEZONE
BEGIN:VEVENT
DTSTART;TZID=Europe/Amsterdam:20210613T113000
DTEND;TZID=Europe/Amsterdam:20210613T123000
DTSTAMP:20260422T203341
CREATED:20210520T131901Z
LAST-MODIFIED:20210520T131901Z
UID:8752-1623583800-1623587400@fonteinwerk.nl
SUMMARY:Fonteindienst - Logisch toch?!
DESCRIPTION:In deze dienst gaat ds. Pieter Both voor. Het thema is: Logisch toch?!\nIs geloven vooral iets van je gevoel? Is geloven aannemen wat je niet begrijpt? Geloven hoeft niet te betekenen dat je dan je verstand moet opofferen. Geloven is niet per se onredelijk. Geloven is ook nadenken.\nWie goed nadenkt\, kan niet anders dan geloven! \n\n\nIn deze dienst zal Pieter meer vertellen over hoe logisch het is om te geloven met verstand naar aanleiding van Spreuken 8 “Wijsheid spreekt”. \n\n\nDe muziek is van Annelien & band \nJe bent welkom\, online of fysiek (wel aanmelden) om 11.30 uur in de Plantagekerk te Harderwijk. \nIn verband met de versoepelingen van de corona maatregelen is er weer beperkt plaats in de kerk om de dienst live te bezoeken. Wil je de dienst live bezoeken\, dan moet je je vooraf even aanmelden. Vul het online aanmeldformulier in voor elke persoon (ook binnen je gezin) die mee gaat naar de kerk. Dit scheelt veel handmatige administratie voor het team. Klik op de volgende link om je aan te melden: https://forms.gle/m6CPjNCtr2Lq3vLb6 \nDe Fonteindienst is ook te volgen via de live-stream en de CAI televisie.\nSchakel om 11.30 uur weer in via CAI TV kanaal 707 of via de website www.pgharderwijk.nl/live-stream (klik op de foto van de Plantagekerk).\n\nJe bent van harte welkom!
URL:https://fonteinwerk.nl/agenda/fonteindienst-logisch-toch/
LOCATION:Plantagekerk Harderwijk\, Stationslaan 136\, Harderwijk\, Gelderland\, 3841 DC\, Nederland
END:VEVENT
END:VCALENDAR