BEGIN:VCALENDAR
VERSION:2.0
PRODID:-//Fonteinwerk - ECPv6.6.4.2//NONSGML v1.0//EN
CALSCALE:GREGORIAN
METHOD:PUBLISH
X-ORIGINAL-URL:https://fonteinwerk.nl
X-WR-CALDESC:Evenementen voor Fonteinwerk
REFRESH-INTERVAL;VALUE=DURATION:PT1H
X-Robots-Tag:noindex
X-PUBLISHED-TTL:PT1H
BEGIN:VTIMEZONE
TZID:Europe/Amsterdam
BEGIN:DAYLIGHT
TZOFFSETFROM:+0100
TZOFFSETTO:+0200
TZNAME:CEST
DTSTART:20210328T010000
END:DAYLIGHT
BEGIN:STANDARD
TZOFFSETFROM:+0200
TZOFFSETTO:+0100
TZNAME:CET
DTSTART:20211031T010000
END:STANDARD
END:VTIMEZONE
BEGIN:VEVENT
DTSTART;TZID=Europe/Amsterdam:20210606T113000
DTEND;TZID=Europe/Amsterdam:20210606T123000
DTSTAMP:20260422T203622
CREATED:20210520T114831Z
LAST-MODIFIED:20210520T115537Z
UID:8744-1622979000-1622982600@fonteinwerk.nl
SUMMARY:Fonteindienst - Boven alles?!
DESCRIPTION:Deze dienst gaat ds. Andre Priem voor. Het thema is ‘Boven alles?!’ Het leven is vluchtig en haastig. Tijd maken voor elkaar is een hele uitdaging met alle volle agenda’s en tijd maken voor God is vaak nog lastiger.\nToch vraagt God ons om Hem lief te hebben met alles wat in ons is zodat ons leven afgestemd is op Hem. Eigenlijk heel logisch in een relatie.\nToch is het soms een heel gevecht tussen ons ego en onze liefde voor God wat maakt dat we ons niet geheel geven en God niet bovenaan staat. Andre zal ons meer vetellen over hoe ons leven een liefdeslied voor God kan zijn waarin Hij bovenaan staat in ons leven. \nDe muziek is van Praiseband Ivy. \nJe bent welkom\, online of fysiek (wel aanmelden) om 11.30 uur in de Plantagekerk te Harderwijk. \nIn verband met de versoepelingen van de corona maatregelen is er weer beperkt plaats in de kerk om de dienst live te bezoeken. Wil je de dienst live bezoeken\, dan moet je je vooraf even aanmelden. Vul het online aanmeldformulier in voor elke persoon (ook binnen je gezin) die mee gaat naar de kerk. Dit scheelt veel handmatige administratie voor het team. Klik op de volgende link om je aan te melden: https://forms.gle/sCaL5RkfPZ8q6x3r6 \nDe Fonteindienst is ook te volgen via de live-stream en de CAI televisie.\nSchakel om 11.30 uur weer in via CAI TV kanaal 707 of via de website www.pgharderwijk.nl/live-stream (klik op de foto van de Plantagekerk).\n\nJe bent van harte welkom!\n 
URL:https://fonteinwerk.nl/agenda/fonteindienst-boven-alles/
LOCATION:Plantagekerk Harderwijk\, Stationslaan 136\, Harderwijk\, Gelderland\, 3841 DC\, Nederland
END:VEVENT
END:VCALENDAR