BEGIN:VCALENDAR
VERSION:2.0
PRODID:-//Fonteinwerk - ECPv6.6.4.2//NONSGML v1.0//EN
CALSCALE:GREGORIAN
METHOD:PUBLISH
X-WR-CALNAME:Fonteinwerk
X-ORIGINAL-URL:https://fonteinwerk.nl
X-WR-CALDESC:Evenementen voor Fonteinwerk
REFRESH-INTERVAL;VALUE=DURATION:PT1H
X-Robots-Tag:noindex
X-PUBLISHED-TTL:PT1H
BEGIN:VTIMEZONE
TZID:Europe/Amsterdam
BEGIN:DAYLIGHT
TZOFFSETFROM:+0100
TZOFFSETTO:+0200
TZNAME:CEST
DTSTART:20210328T010000
END:DAYLIGHT
BEGIN:STANDARD
TZOFFSETFROM:+0200
TZOFFSETTO:+0100
TZNAME:CET
DTSTART:20211031T010000
END:STANDARD
END:VTIMEZONE
BEGIN:VEVENT
DTSTART;TZID=Europe/Amsterdam:20210404T113000
DTEND;TZID=Europe/Amsterdam:20210404T123000
DTSTAMP:20260423T002553
CREATED:20210313T082938Z
LAST-MODIFIED:20210313T083004Z
UID:8544-1617535800-1617539400@fonteinwerk.nl
SUMMARY:Fonteindienst - Houd moed\, het Licht heeft overwonnen!
DESCRIPTION:Op deze Paaszondag gaat Ds Henk Jansen voor. Het thema is: Houd moed\, het Licht heeft overwonnen! \nAl meer dan een jaar leven we in een tijd met Corona. Een tijd waarin we soms wel wat perspectief missen. Wanneer wordt het anders? Wanneer mogen we elkaar weer zien in de kerk en kunnen we weer samen zingen? En dan vieren we nu weer Pasen. Het feest van vrijheid\, van opstandig\, van nieuw leven. Het lijkt zo’n contrast.\nMaar in deze onzekere tijden is Pasen nu misschien wel meer dan ooit een feest van gejuich\, van blijdschap\, want Hij is waarlijk opgestaan! Hij wil het licht in ons leven zijn.\nErvaar jij dat ook? Kun jij door de tranen van vandaag ook het Licht van Pasen zien? \nDeze dienst zal online plaatsvinden en is te bekijken via CAI TV kanaal 707 of via de website www.pgharderwijk.nl/live-stream (klik op de foto van de plantagekerk
URL:https://fonteinwerk.nl/agenda/fonteindienst-houd-moed-het-licht-heeft-overwonnen/
LOCATION:Gelderland
END:VEVENT
END:VCALENDAR