BEGIN:VCALENDAR
VERSION:2.0
PRODID:-//Fonteinwerk - ECPv6.6.4.2//NONSGML v1.0//EN
CALSCALE:GREGORIAN
METHOD:PUBLISH
X-ORIGINAL-URL:https://fonteinwerk.nl
X-WR-CALDESC:Evenementen voor Fonteinwerk
REFRESH-INTERVAL;VALUE=DURATION:PT1H
X-Robots-Tag:noindex
X-PUBLISHED-TTL:PT1H
BEGIN:VTIMEZONE
TZID:Europe/Amsterdam
BEGIN:DAYLIGHT
TZOFFSETFROM:+0100
TZOFFSETTO:+0200
TZNAME:CEST
DTSTART:20210328T010000
END:DAYLIGHT
BEGIN:STANDARD
TZOFFSETFROM:+0200
TZOFFSETTO:+0100
TZNAME:CET
DTSTART:20211031T010000
END:STANDARD
END:VTIMEZONE
BEGIN:VEVENT
DTSTART;TZID=Europe/Amsterdam:20210307T113000
DTEND;TZID=Europe/Amsterdam:20210307T123000
DTSTAMP:20260423T021811
CREATED:20210218T115009Z
LAST-MODIFIED:20210309T084535Z
UID:8461-1615116600-1615120200@fonteinwerk.nl
SUMMARY:Fonteindienst - Iedereen heeft een verhaal
DESCRIPTION:Online Fonteindienst 7 maart 2021 \nIn deze online-Fonteindienst op 7 maart wordt het Heilig Avondmaal gevierd. Je wordt uitgenodigd om thuis alvast brood en wijn of druivensap klaar te zetten om dit samen mee te vieren. \nSpreker: Frans van Velzen \nMuziek: I4U \n11.30 vanuit de Plantagekerk \nwww.pgharderwijk.nl/live-stream \nCAI kanaal 707
URL:https://fonteinwerk.nl/agenda/fonteindienst-7-maart-iedereen-heeft-een-verhaal/
LOCATION:Online Dienst
END:VEVENT
END:VCALENDAR