BEGIN:VCALENDAR
VERSION:2.0
PRODID:-//Fonteinwerk - ECPv6.6.4.2//NONSGML v1.0//EN
CALSCALE:GREGORIAN
METHOD:PUBLISH
X-ORIGINAL-URL:https://fonteinwerk.nl
X-WR-CALDESC:Evenementen voor Fonteinwerk
REFRESH-INTERVAL;VALUE=DURATION:PT1H
X-Robots-Tag:noindex
X-PUBLISHED-TTL:PT1H
BEGIN:VTIMEZONE
TZID:Europe/Amsterdam
BEGIN:DAYLIGHT
TZOFFSETFROM:+0100
TZOFFSETTO:+0200
TZNAME:CEST
DTSTART:20210328T010000
END:DAYLIGHT
BEGIN:STANDARD
TZOFFSETFROM:+0200
TZOFFSETTO:+0100
TZNAME:CET
DTSTART:20211031T010000
END:STANDARD
END:VTIMEZONE
BEGIN:VEVENT
DTSTART;TZID=Europe/Amsterdam:20210214T113000
DTEND;TZID=Europe/Amsterdam:20210214T123000
DTSTAMP:20260423T041421
CREATED:20210117T124610Z
LAST-MODIFIED:20210117T124805Z
UID:8348-1613302200-1613305800@fonteinwerk.nl
SUMMARY:Fonteindienst - Alles is liefde!
DESCRIPTION:Op deze Valentijnsdag gaat Ds. Peter Kruijt voor. Het thema is ‘Alles is liefde!’ \nWe zoeken allemaal naar liefde\, want wie kan er zonder? In de Bijbel kunnen we veel lezen over liefde. Niet zo gek\, want onze God is Liefde en dringt zich niet op. Hij wil gevonden worden. Hij heeft je al lang gezien en wacht tot Zijn Liefde beantwoord wordt. In Jezus liet Hij Zijn Liefde zien en dat voorbeeld mogen wij volgen.\nWaar zoek jij de liefde en hoe ga je ermee om? Is het je kostbaarste bezit of is het zo weer weg? Om ons hier meer over te leren\, neemt Peter ons mee naar Hooglied. \nDe muziek wordt verzorgd door Praiseband Ivy. \nDeze dienst zal online plaatsvinden en is te bekijken via CAI TV kanaal 707 of via de website www.pgharderwijk.nl/live-stream (klik op de foto van de plantagekerk).
URL:https://fonteinwerk.nl/agenda/fonteindienst-alles-is-liefde/
LOCATION:Gelderland
END:VEVENT
END:VCALENDAR