BEGIN:VCALENDAR
VERSION:2.0
PRODID:-//Fonteinwerk - ECPv6.6.4.2//NONSGML v1.0//EN
CALSCALE:GREGORIAN
METHOD:PUBLISH
X-WR-CALNAME:Fonteinwerk
X-ORIGINAL-URL:https://fonteinwerk.nl
X-WR-CALDESC:Evenementen voor Fonteinwerk
REFRESH-INTERVAL;VALUE=DURATION:PT1H
X-Robots-Tag:noindex
X-PUBLISHED-TTL:PT1H
BEGIN:VTIMEZONE
TZID:Europe/Amsterdam
BEGIN:DAYLIGHT
TZOFFSETFROM:+0100
TZOFFSETTO:+0200
TZNAME:CEST
DTSTART:20200329T010000
END:DAYLIGHT
BEGIN:STANDARD
TZOFFSETFROM:+0200
TZOFFSETTO:+0100
TZNAME:CET
DTSTART:20201025T010000
END:STANDARD
END:VTIMEZONE
BEGIN:VEVENT
DTSTART;TZID=Europe/Amsterdam:20201213T113000
DTEND;TZID=Europe/Amsterdam:20201213T123000
DTSTAMP:20260423T080149
CREATED:20201117T134310Z
LAST-MODIFIED:20201210T081535Z
UID:8123-1607859000-1607862600@fonteinwerk.nl
SUMMARY:Fonteindienst - Jezus bevrijdt
DESCRIPTION:Deze 3e adventszondag\, waarin wij ook het Heilig Avondmaal vieren\, is het thema: Jezus bevrijdt. \nIn ‘Stille nacht’ zingen wij met elkaar “vreed en heil wordt gebracht\, aan een wereld verloren in schuld”. Jezus’ naam betekent ‘Hij zal Zijn volk bevrijden van hun zonden’. \nSchuld\, zonden\, vergeving\,… zeggen deze woorden ons nog iets? Zo ja\, gaat het dan over persoonlijke fouten of heeft de wereld om ons heen er ook mee te maken? Ds. Pieter Both zal ons meer vertellen over wat Jezus te maken heeft met schuld\, zonden en vergeving\, waarna wij met elkaar het feest van de genade mogen vieren. \nDe muziek wordt verzorgd door Praiseband Ivy. \nEr is deze tweede dienst van december geen kinderdienst en oppas. \nJe bent welkom\, online of fysiek (wel aanmelden) om 11.30 uur in de Plantagekerk te Harderwijk \nIn verband met de huidige corona maatregelen is er beperkt plaats in de kerk om de dienst live te bezoeken. Wil je de dienst live bezoeken\, dan moet je je vooraf even aanmelden. Vul het online aanmeldformulier in voor elke persoon (ook binnen je gezin) die mee gaat naar de kerk. Dit scheelt veel handmatige administratie voor het team. Klik op de volgende link om je aan te melden: https://forms.gle/fa7UfiBoERPkAYF97 \nDe Fonteindienst is ook te volgen via de live-stream en de CAI televisie.\nSchakel om 11.30 uur weer in via CAI TV kanaal 707 of via de website www.pgharderwijk.nl/live-stream (klik op de foto van de Plantagekerk).\n\nJe bent van harte welkom!
URL:https://fonteinwerk.nl/agenda/fonteindienst-jezus-bevrijdt/
LOCATION:Plantagekerk Harderwijk\, Stationslaan 136\, Harderwijk\, Gelderland\, 3841 DC\, Nederland
END:VEVENT
END:VCALENDAR