BEGIN:VCALENDAR
VERSION:2.0
PRODID:-//Fonteinwerk - ECPv6.6.4.2//NONSGML v1.0//EN
CALSCALE:GREGORIAN
METHOD:PUBLISH
X-WR-CALNAME:Fonteinwerk
X-ORIGINAL-URL:https://fonteinwerk.nl
X-WR-CALDESC:Evenementen voor Fonteinwerk
REFRESH-INTERVAL;VALUE=DURATION:PT1H
X-Robots-Tag:noindex
X-PUBLISHED-TTL:PT1H
BEGIN:VTIMEZONE
TZID:Europe/Amsterdam
BEGIN:DAYLIGHT
TZOFFSETFROM:+0100
TZOFFSETTO:+0200
TZNAME:CEST
DTSTART:20200329T010000
END:DAYLIGHT
BEGIN:STANDARD
TZOFFSETFROM:+0200
TZOFFSETTO:+0100
TZNAME:CET
DTSTART:20201025T010000
END:STANDARD
END:VTIMEZONE
BEGIN:VEVENT
DTSTART;TZID=Europe/Amsterdam:20201203T193000
DTEND;TZID=Europe/Amsterdam:20201203T210000
DTSTAMP:20260423T080148
CREATED:20201117T184745Z
LAST-MODIFIED:20201117T184745Z
UID:8128-1607023800-1607029200@fonteinwerk.nl
SUMMARY:Gemeentebijeenkomst PGH
DESCRIPTION:Namen de Algemene Kerkenraad\, nodig ik u hierbij uit voor het bijwonen van de gemeentebijeenkomst donderdag op 3 december aanstaande.\nDe bijeenkomst begint om 19.30 uur in en vanuit de Plantagekerk. De bijeenkomst zal door Covid-19 anders zijn dan voorgaande jaren. \nWaarvoor nodigen wij u uit: \n\nom de begroting 2021 van de PGH te bespreken\, waarover u dan vragen kan stellen\nom de laatste stand van zaken te melden over de beoogde verbouwing van de Plantagekerk\n\nHoe gaan wij vergaderen; rekening houdend met de huidige regels rond Covid-19\, kunnen er maximaal 30 gemeenteleden aanwezig zijn in de Plantagekerk.\nOm aan de vergadering te kunnen deelnemen\, zijn er twee mogelijkheden\, namelijk: \n\ndoor aanwezig te zijn in de Plantagekerk\nvia “Kerkdienst gemist” door middel van een toegangscode\n\nOm aan de vergadering te kunnen deelnemen\, kunt u zich aanmelden via scriba.plantagekerk@pgharderwijk.nl \nGeef hierbij dan aan of u  aanwezig wilt zijn in de Plantagekerk of dat u wilt deelnemen via kerkdienst gemist. Als u heeft aangegeven te willen deelnemen door uw aanwezigheid in de Plantagekerk\, dan krijgt u hiervan bericht of dit kan\, gelet op het maximaal aantal aanwezigen. Als u heeft aangegeven dat u via kerkdienst gemist deelneemt\, dan krijgt u hiervoor een toegangscode gemaild. \nDe begroting 2021 zal tijdig worden gepubliceerd in Samen Geroepen en op de website. \nWij hopen op uw komst en deelname. \nNamens de Algemene Kerkenraad\,\nCoen van Woerkom Scriba
URL:https://fonteinwerk.nl/agenda/gemeentebijeenkomst-pgh/
LOCATION:Plantagekerk Harderwijk\, Stationslaan 136\, Harderwijk\, Gelderland\, 3841 DC\, Nederland
END:VEVENT
END:VCALENDAR