BEGIN:VCALENDAR
VERSION:2.0
PRODID:-//Fonteinwerk - ECPv6.6.4.2//NONSGML v1.0//EN
CALSCALE:GREGORIAN
METHOD:PUBLISH
X-WR-CALNAME:Fonteinwerk
X-ORIGINAL-URL:https://fonteinwerk.nl
X-WR-CALDESC:Evenementen voor Fonteinwerk
REFRESH-INTERVAL;VALUE=DURATION:PT1H
X-Robots-Tag:noindex
X-PUBLISHED-TTL:PT1H
BEGIN:VTIMEZONE
TZID:Europe/Amsterdam
BEGIN:DAYLIGHT
TZOFFSETFROM:+0100
TZOFFSETTO:+0200
TZNAME:CEST
DTSTART:20200329T010000
END:DAYLIGHT
BEGIN:STANDARD
TZOFFSETFROM:+0200
TZOFFSETTO:+0100
TZNAME:CET
DTSTART:20201025T010000
END:STANDARD
END:VTIMEZONE
BEGIN:VEVENT
DTSTART;TZID=Europe/Amsterdam:20201126T193000
DTEND;TZID=Europe/Amsterdam:20201126T210000
DTSTAMP:20260423T095123
CREATED:20201106T100008Z
LAST-MODIFIED:20201108T212625Z
UID:7975-1606419000-1606424400@fonteinwerk.nl
SUMMARY:Community avond
DESCRIPTION:Communityavond linksom of rechtsom – kom je ook? \nWil jij vast dit in je agenda noteren? Deze avond is voor gasten\, bezoekers en vrijwilligers van Fonteindiensten. Voel je je (een beetje) Fonteiner? Dan ben je uiteraard ook van harte welkom. Deze avond is voor iedereen die zich thuis voelt binnen Fonteinwerk. Een avond van inspireren en ontmoeten. Hoe we het gaan doen weten we nog niet precies: combi van fysiek en online waarschijnlijk. Wellicht zit je op beide vormen helemaal niet te wachten en word je al moe bij de gedachte dat het online zou zijn. Bedenk dan dat anderen misschien wel op jou zitten te wachten en je graag weer willen ontmoeten.  \nGeef je hoe dan ook snel op bij Henk Verschuuren en stuur je aanmelding naar secretarisfonteinwerk@gmail.com. Zo houden we rekening met jouw komst!! Namens Stuurgroep Fonteinwerk\, Martijn Stuiver
URL:https://fonteinwerk.nl/agenda/community-avond/
LOCATION:Gelderland
END:VEVENT
END:VCALENDAR