BEGIN:VCALENDAR
VERSION:2.0
PRODID:-//Fonteinwerk - ECPv6.6.4.2//NONSGML v1.0//EN
CALSCALE:GREGORIAN
METHOD:PUBLISH
X-ORIGINAL-URL:https://fonteinwerk.nl
X-WR-CALDESC:Evenementen voor Fonteinwerk
REFRESH-INTERVAL;VALUE=DURATION:PT1H
X-Robots-Tag:noindex
X-PUBLISHED-TTL:PT1H
BEGIN:VTIMEZONE
TZID:Europe/Amsterdam
BEGIN:DAYLIGHT
TZOFFSETFROM:+0100
TZOFFSETTO:+0200
TZNAME:CEST
DTSTART:20200329T010000
END:DAYLIGHT
BEGIN:STANDARD
TZOFFSETFROM:+0200
TZOFFSETTO:+0100
TZNAME:CET
DTSTART:20201025T010000
END:STANDARD
END:VTIMEZONE
BEGIN:VEVENT
DTSTART;TZID=Europe/Amsterdam:20201108T113000
DTEND;TZID=Europe/Amsterdam:20201108T123000
DTSTAMP:20260423T095224
CREATED:20201018T114040Z
LAST-MODIFIED:20201104T075648Z
UID:7924-1604835000-1604838600@fonteinwerk.nl
SUMMARY:Fonteindienst - Met huid en haar!
DESCRIPTION:Deze zondag hopen we een aantal gasten van dopeling Sebastiaan Schoemaker te verwelkomen. Hierdoor is er in de kerk helaas geen ruimte meer voor andere bezoekers. Maar online kun je allemaal meegenieten\, want een feest is het wel! \nPraiseband IVY komt spelen en zingen. We lezen 2 Johannes: hoe belangrijk het is dat Jezus echt mens is geworden. Bij de doop wordt je ‘met huid en haar’ verbonden met Jezus\, omdat Hij ‘met huid en haar’ mens is geworden\, verbonden met ons.\nDat betekent dat wij geroepen zijn om ook ‘met huid en haar’ verbonden te leven met de wereld en de mensen om ons heen.\nDs. Henk Jansen zal hier tijdens de viering meer over vertellen. \nDe Fonteindienst is te volgen via de live-stream en de CAI televisie.\nSchakel om 11.30 uur weer in via CAI TV kanaal 707 of via de website www.pgharderwijk.nl/live-stream (klik op de foto van de Plantagekerk).\n\nJe bent van harte welkom!
URL:https://fonteinwerk.nl/agenda/fonteindienst-61/
LOCATION:Gelderland
END:VEVENT
END:VCALENDAR