BEGIN:VCALENDAR
VERSION:2.0
PRODID:-//Fonteinwerk - ECPv6.6.4.2//NONSGML v1.0//EN
CALSCALE:GREGORIAN
METHOD:PUBLISH
X-ORIGINAL-URL:https://fonteinwerk.nl
X-WR-CALDESC:Evenementen voor Fonteinwerk
REFRESH-INTERVAL;VALUE=DURATION:PT1H
X-Robots-Tag:noindex
X-PUBLISHED-TTL:PT1H
BEGIN:VTIMEZONE
TZID:Europe/Amsterdam
BEGIN:DAYLIGHT
TZOFFSETFROM:+0100
TZOFFSETTO:+0200
TZNAME:CEST
DTSTART:20200329T010000
END:DAYLIGHT
BEGIN:STANDARD
TZOFFSETFROM:+0200
TZOFFSETTO:+0100
TZNAME:CET
DTSTART:20201025T010000
END:STANDARD
END:VTIMEZONE
BEGIN:VEVENT
DTSTART;TZID=Europe/Amsterdam:20200913T113000
DTEND;TZID=Europe/Amsterdam:20200913T123000
DTSTAMP:20260423T131122
CREATED:20200719T113427Z
LAST-MODIFIED:20200908T203600Z
UID:7464-1599996600-1600000200@fonteinwerk.nl
SUMMARY:Fonteindienst - Heel het leven
DESCRIPTION:Deze dienst staat in het teken van de doop van Micha Stouwdam en Levi en Joël v.d. Berg. Het thema is: “Heel het leven”. Dit is tevens het nieuwe jaarthema van Fonteinwerk. Wij mogen heel ons leven in Gods hand leggen\, wat een voorrecht.\nDs. Henk Jansen is onze voorganger\, hij zal ook dieper ingaan op het thema. Annelien & band zorgen voor de muzikale begeleiding. \n\nVanwege het beperkte aantal plaatsen in de kerk is het niet meer mogelijk om je aan te melden om de dienst live te bezoeken.\nUiteraard is de dienst ook te volgen via de livestream:\nSchakel om 11.30 uur weer in via CAI TV kanaal 707 of via de website www.pgharderwijk.nl/live-stream (klik op de foto van de Plantagekerk).\n\nJe bent van harte welkom!
URL:https://fonteinwerk.nl/agenda/fonteindienst-57/
LOCATION:Plantagekerk Harderwijk\, Stationslaan 136\, Harderwijk\, Gelderland\, 3841 DC\, Nederland
END:VEVENT
END:VCALENDAR