BEGIN:VCALENDAR
VERSION:2.0
PRODID:-//Fonteinwerk - ECPv6.6.4.2//NONSGML v1.0//EN
CALSCALE:GREGORIAN
METHOD:PUBLISH
X-WR-CALNAME:Fonteinwerk
X-ORIGINAL-URL:https://fonteinwerk.nl
X-WR-CALDESC:Evenementen voor Fonteinwerk
REFRESH-INTERVAL;VALUE=DURATION:PT1H
X-Robots-Tag:noindex
X-PUBLISHED-TTL:PT1H
BEGIN:VTIMEZONE
TZID:Europe/Amsterdam
BEGIN:DAYLIGHT
TZOFFSETFROM:+0100
TZOFFSETTO:+0200
TZNAME:CEST
DTSTART:20200329T010000
END:DAYLIGHT
BEGIN:STANDARD
TZOFFSETFROM:+0200
TZOFFSETTO:+0100
TZNAME:CET
DTSTART:20201025T010000
END:STANDARD
END:VTIMEZONE
BEGIN:VEVENT
DTSTART;TZID=Europe/Amsterdam:20200712T113000
DTEND;TZID=Europe/Amsterdam:20200712T123000
DTSTAMP:20260423T165117
CREATED:20200604T085911Z
LAST-MODIFIED:20200708T150642Z
UID:7156-1594553400-1594557000@fonteinwerk.nl
SUMMARY:Fonteindienst - Bekijk via livestream
DESCRIPTION:Deze dienst gaat ds. David Kroeze voor. Het thema is: “Nu ga ik het anders doen!” \nDe afgelopen periode hebben we veel noodgedwongen stil moeten staan. Agenda’s waren veelal leeg. Vliegtuigen stonden stil\, minder auto’s op de weg en dat ten tijde van het voorjaar. De vogels hoorden we luider dan ooit tevoren. De roep dat het anders moet in de toekomst hoor je steeds vaker maar toch zodra de regels versoepelden\, bleek dat mensen toch weer gingen vliegen of de auto pakten naar het buitenland.\nActie blijkt best lastig\, zeker als je iets moet inleveren. \nHoe verantwoordelijk voelen we ons voor Gods schepping? Hoe fijn zou het zijn als we God kunnen helpen om Zijn ideale wereld mee te helpen bouwen? Weet je hoe deze eruit zal zien? David zal ons meer vertellen over wat de Bijbel ons hierover vertelt. \nSchakel om 11.30 uur weer in via CAI TV kanaal 707 of via de website www.pgharderwijk.nl/live-stream (klik op de foto van de Plantagekerk).\n\nJe bent van harte welkom!\n 
URL:https://fonteinwerk.nl/agenda/fonteindienst-bekijk-via-livestream-17/
LOCATION:Gelderland
END:VEVENT
END:VCALENDAR