BEGIN:VCALENDAR
VERSION:2.0
PRODID:-//Fonteinwerk - ECPv6.6.4.2//NONSGML v1.0//EN
CALSCALE:GREGORIAN
METHOD:PUBLISH
X-WR-CALNAME:Fonteinwerk
X-ORIGINAL-URL:https://fonteinwerk.nl
X-WR-CALDESC:Evenementen voor Fonteinwerk
REFRESH-INTERVAL;VALUE=DURATION:PT1H
X-Robots-Tag:noindex
X-PUBLISHED-TTL:PT1H
BEGIN:VTIMEZONE
TZID:Europe/Amsterdam
BEGIN:DAYLIGHT
TZOFFSETFROM:+0100
TZOFFSETTO:+0200
TZNAME:CEST
DTSTART:20200329T010000
END:DAYLIGHT
BEGIN:STANDARD
TZOFFSETFROM:+0200
TZOFFSETTO:+0100
TZNAME:CET
DTSTART:20201025T010000
END:STANDARD
END:VTIMEZONE
BEGIN:VEVENT
DTSTART;TZID=Europe/Amsterdam:20200607T113000
DTEND;TZID=Europe/Amsterdam:20200607T123000
DTSTAMP:20260423T190201
CREATED:20200328T111644Z
LAST-MODIFIED:20200604T073128Z
UID:6854-1591529400-1591533000@fonteinwerk.nl
SUMMARY:Fonteindienst - Bekijk via livestream
DESCRIPTION:Thema: Wandelen met God op anderhalve meter? \nBen jij ook zo langzamerhand moe van de afstand die we moeten houden?  En van online op afstand vieren?  En heb je weer zin om samen te  zijn en samen te zingen?\nBen je je ervan bewust dat jij het bent die met God wandelt? Hoe krijg je God binnen die anderhalve meter? Hoe ga je dat aanpakken\, wat heb je daar bij nodig\, voor de viering maar ook in je leven van alle dag? \nOp deze vragen gaat Henk Jansen verder in bij de overdenking in zijn vlog. \nSchakel om 11.30 uur weer in via CAI TV kanaal 707 of via de website www.pgharderwijk.nl/live-stream (klik op de foto van de Plantagekerk).\n\nJe bent van harte welkom!
URL:https://fonteinwerk.nl/agenda/fonteindienst-bekijk-via-livestream-11/
LOCATION:Gelderland
END:VEVENT
END:VCALENDAR