BEGIN:VCALENDAR
VERSION:2.0
PRODID:-//Fonteinwerk - ECPv6.6.4.2//NONSGML v1.0//EN
CALSCALE:GREGORIAN
METHOD:PUBLISH
X-ORIGINAL-URL:https://fonteinwerk.nl
X-WR-CALDESC:Evenementen voor Fonteinwerk
REFRESH-INTERVAL;VALUE=DURATION:PT1H
X-Robots-Tag:noindex
X-PUBLISHED-TTL:PT1H
BEGIN:VTIMEZONE
TZID:Europe/Amsterdam
BEGIN:DAYLIGHT
TZOFFSETFROM:+0100
TZOFFSETTO:+0200
TZNAME:CEST
DTSTART:20200329T010000
END:DAYLIGHT
BEGIN:STANDARD
TZOFFSETFROM:+0200
TZOFFSETTO:+0100
TZNAME:CET
DTSTART:20201025T010000
END:STANDARD
END:VTIMEZONE
BEGIN:VEVENT
DTSTART;TZID=Europe/Amsterdam:20200517T113000
DTEND;TZID=Europe/Amsterdam:20200517T123000
DTSTAMP:20260423T204625
CREATED:20200328T111538Z
LAST-MODIFIED:20200510T111558Z
UID:6850-1589715000-1589718600@fonteinwerk.nl
SUMMARY:Fonteindienst - Bekijk via livestream
DESCRIPTION:Het thema van deze Fonteindienst is: “Iedereen Welkom” (de inclusieve kerk).\nHet is dan de internationale dag tegen Homofobie en Transfobie. \nTheoloog Hans Dieter de Smit neemt ons in zijn vlog mee\, met de focus op Romeinen 12. \nWe zullen bij het afsluitend gebed de Mentimeter app weer gebruiken. \n\nSchakel om 11.30 uur weer in via CAI TV kanaal 707 of via de website www.pgharderwijk.nl/live-stream (klik op de foto van de Plantagekerk).\n\nJe bent van harte welkom!
URL:https://fonteinwerk.nl/agenda/fonteindienst-bekijk-via-livestream-9/
LOCATION:Gelderland
END:VEVENT
END:VCALENDAR