BEGIN:VCALENDAR
VERSION:2.0
PRODID:-//Fonteinwerk - ECPv6.6.4.2//NONSGML v1.0//EN
CALSCALE:GREGORIAN
METHOD:PUBLISH
X-WR-CALNAME:Fonteinwerk
X-ORIGINAL-URL:https://fonteinwerk.nl
X-WR-CALDESC:Evenementen voor Fonteinwerk
REFRESH-INTERVAL;VALUE=DURATION:PT1H
X-Robots-Tag:noindex
X-PUBLISHED-TTL:PT1H
BEGIN:VTIMEZONE
TZID:Europe/Amsterdam
BEGIN:DAYLIGHT
TZOFFSETFROM:+0100
TZOFFSETTO:+0200
TZNAME:CEST
DTSTART:20200329T010000
END:DAYLIGHT
BEGIN:STANDARD
TZOFFSETFROM:+0200
TZOFFSETTO:+0100
TZNAME:CET
DTSTART:20201025T010000
END:STANDARD
END:VTIMEZONE
BEGIN:VEVENT
DTSTART;TZID=Europe/Amsterdam:20200426T113000
DTEND;TZID=Europe/Amsterdam:20200426T123000
DTSTAMP:20260423T204609
CREATED:20200328T111311Z
LAST-MODIFIED:20200422T130239Z
UID:6844-1587900600-1587904200@fonteinwerk.nl
SUMMARY:Fonteindienst - Bekijk via livestream
DESCRIPTION:Koningsdag\, het zal dit jaar anders verlopen dan normaal. Geen kleedjesmarkten\, geen stoeten mensen en ook geen Willem-Alexander die met zijn familie een rondje loopt door Maastricht. Want Koningsdag wordt Woningsdag. We blijven allemaal thuis.\n\nMaar hoe zit dit met onze hemelse Koning en zijn woning? Predikant Pieter Both neemt ons hierin mee in zijn vlog.\n\nVoor de kinderen hebben we de volgende vraag: Willen jullie een tekening maken van de Koning of een kroon voor hem knutselen? Als je ouders daar dan een foto van maken en die sturen naar info@fonteinwerk.nl\, gaan wij de volgende keer laten zien wat jullie allemaal hebben gemaakt voor de Koning!\n\nSchakel om 11.30 uur weer in via CAI TV kanaal 707 of via de website www.pgharderwijk.nl/live-stream (klik op de foto van de Plantagekerk). Graag tot dan!
URL:https://fonteinwerk.nl/agenda/fonteindienst-bekijk-via-livestream-6/
LOCATION:Gelderland
END:VEVENT
END:VCALENDAR