BEGIN:VCALENDAR
VERSION:2.0
PRODID:-//Fonteinwerk - ECPv6.6.4.2//NONSGML v1.0//EN
CALSCALE:GREGORIAN
METHOD:PUBLISH
X-ORIGINAL-URL:https://fonteinwerk.nl
X-WR-CALDESC:Evenementen voor Fonteinwerk
REFRESH-INTERVAL;VALUE=DURATION:PT1H
X-Robots-Tag:noindex
X-PUBLISHED-TTL:PT1H
BEGIN:VTIMEZONE
TZID:Europe/Amsterdam
BEGIN:DAYLIGHT
TZOFFSETFROM:+0100
TZOFFSETTO:+0200
TZNAME:CEST
DTSTART:20200329T010000
END:DAYLIGHT
BEGIN:STANDARD
TZOFFSETFROM:+0200
TZOFFSETTO:+0100
TZNAME:CET
DTSTART:20201025T010000
END:STANDARD
END:VTIMEZONE
BEGIN:VEVENT
DTSTART;TZID=Europe/Amsterdam:20200325T200000
DTEND;TZID=Europe/Amsterdam:20200325T220000
DTSTAMP:20260424T043942
CREATED:20191024T174912Z
LAST-MODIFIED:20200314T101314Z
UID:6298-1585166400-1585173600@fonteinwerk.nl
SUMMARY:Micha Cursus - GEANNULEERD
DESCRIPTION:Deel 6 van 6
URL:https://fonteinwerk.nl/agenda/micha-cursus-12/
LOCATION:Gelderland
END:VEVENT
END:VCALENDAR